Workbook
Name Class_Year: [1]Class_Year!$A$1:$A$5

Sheet Fall 2026
A1: Fall 2026 Sample Budget
B2: # of Members | D2: Enter the number of men returning to your chapter in the fall, including study abroad fall, in the column to the right. | G2: Total Members
A3: Members | B3: 31
A4: Full Year AMF | B4: 30 | D4: Enter the number of men billed in each AMF category. You have the option of being billed one-time in the fall, split per semester, fall semester only (December grad/study abroad spring), or spring semester only (fall study abroad). | G4: Member Payment Breakdown
A5: Split (Per Semester) AMF | B5: 1
A6: Fall Semester AMF | B6: 0
A7: Spring Semester AMF | B7: 0
A8: Are you Splitting RMF? (Check For Yes) | B8: TRUE
A9: Savings for Unexpected Expenses (10% of Total) | B9: =B39*0.1 -> 1709.74 | G9: Savings/ Debt Payment
A10: Total Revenue (Including Savings) | B10: =B9+B39 -> 18807.14 | D10: Recommended Fall Dues | F10: =B10/B3 -> 606.68194 | G10: Grand Total and Recommended Dues
A11: Expenses | B11: Budgeted | C11: Actual Spent | D11: Difference
A12: Chapter Assessment Fee (CAF) | B12: 500 | C12: 0 | D12: =B12-C12 -> 500 | E12: The sample budget has the chapter paying the CAF, RMF & AMF in full & split options. The RMF fluctuates from chapter to chapter - look at https://legacy.tke.org/resources/riskfeecalculation. More information on the fee structure can be found here - https://tke.org/resources/finance/ All fees are paid to TKE Headquarters through the Chapter Module - https://module.tke.org | G12: Headquarters Fees
A13: ($500 or $390*2 for every Chapter)
A14: Risk Management Fees (RMF) | B14: =B3*235*IF(B8,0.5,1) -> 3642.5 | C14: 0 | D14: =B14-C14 -> 3642.5
A15: ($235 per member per year-base rate)
A16: Annual Membership Fees (AMFs) | B16: =B4*215 -> 6450 | C16: 0 | D16: =B16-C16 -> 6450
A17: ($215 for full year - incentive rate)
A18: Annual Membership Fees (AMFs) | B18: =(B5+B6)*123 -> 123 | C18: 0 | D18: =B18-C18 -> 123
A19: ($123 for half year - base rate)
A21: Conclave Savings Plan | B21: 250 | C21: 0 | D21: =B21-C21 -> 250
A22: Subtotal | B22: =SUM(B12:B21) -> 10965.5 | C22: =SUM(C12:C21) -> 0 | D22: =SUM(D12:D21) -> 10965.5 | G22: Total Owed to HQ
A23: Province Forum (Forum) | B23: =25*(0.2*B3) -> 155 | C23: 0 | D23: =B23-C23 -> 155 | E23: Highly Recommended | G23: Chapter Expenses
A24: Regional Leadership Conference (RLC) | B24: =299*(B3*0.1) -> 926.9 | C24: 0 | D24: =B24-C24 -> 926.9
A25: Conclave 2028 Travel | B25: 200 | C25: 0 | D25: =B25-C25 -> 200
A26: Recruitment | B26: 500 | C26: 0 | D26: =B26-C26 -> 500
A27: Social | B27: 500 | C27: 0 | D27: =B27-C27 -> 500
A28: Philanthropy | B28: 300 | C28: 0 | D28: =B28-C28 -> 300 | E28: These are your variable expenses. They may be the same or different from what is listed. Based on your spending over the last 1-3 years, the chapter can budget for variable expenses you may encounter throughout the year.
A29: Officers | B29: 200 | C29: 0 | D29: =B29-C29 -> 200
A30: Semi-Formal | B30: 500 | C30: 0 | D30: =B30-C30 -> 500
A31: Scholarship | B31: 150 | C31: 0 | D31: =B31-C31 -> 150
A32: Brotherhood Events | B32: 500 | C32: 0 | D32: =B32-C32 -> 500
A33: Conference Travel (Forum/RLC/Conclave) | B33: 250 | C33: 0 | D33: =B33-C33 -> 250
A34: Composite | B34: 1000 | C34: 0 | D34: =B34-C34 -> 1000
A35: Apparel/T-Shirts | B35: 500 | C35: 0 | D35: =B35-C35 -> 500
A36: IFC Dues | B36: 250 | C36: 0 | D36: =B36-C36 -> 250
A37: Miscellaneous | B37: 200 | C37: 0 | D37: =B37-C37 -> 200
A38: Subtotal | B38: =SUM(B23:B37) -> 6131.9 | C38: =SUM(C24:C37) -> 0 | D38: =SUM(D23:D37) -> 6131.9 | G38: Chapter Expenses Total
A39: Total Expenses | B39: =B22+B38 -> 17097.4 | C39: =C22+C38 -> 0 | D39: =D22+D38 -> 17097.4
A40: Budgeted Surplus / (Deficit) | B40: =B10-B39 -> 1709.74
A41: Actual Surplus/ (Deficit) | B41: =C39-B39 -> -17097.4

Sheet Spring 2027
A1: Spring 2027 Sample Budget
B2: # of Members | D2: Enter the number of men returning to your chapter, NOT including the fall 2024 initiates. This may be different from the fall due to december graduates, transfers, etc. | G2: Total Members
A3: Members | B3: =SUM(B5:B8) -> 31
A4: Fall 2026 Initiates | B4: 9 | C4: TRUE | D4: Will your new members be paying spring Dues? (Check for yes)
A5: Full Year AMF | B5: ='Fall 2026'!B4 -> 30 | D5: Enter the number of men billed in each AMF category. These numbers should mirror what you entered in the fall budget. There should be no difference unless you have a member returning to school in the spring that was not accounted for in the fall. | G5: Member Payment Breakdown
A6: Split (Per Semester) AMF | B6: ='Fall 2026'!B5 -> 1
A7: Fall Semester AMF | B7: ='Fall 2026'!B6 -> 0
A8: Spring Semester AMF | B8: ='Fall 2026'!B7 -> 0
A9: Did you split RMF Fees? | B9: ='Fall 2026'!B8 -> TRUE
A10: Savings for Unexpected Expenses (10% of Total) | B10: =B40*0.1 -> 1056.35 | G10: Savings/ Debt Payment
A11: Total Revenue (Including Savings) | B11: =B40+B10 -> 11619.85 | C11: Recommended Spring Dues (Fall members) | F11: =IF(C4,B23/B3+(B39+B10)/(B3+B4),B11/B3) -> 319.64101 | G11: Grand Total and Recommended Dues for returning members
C12: New Members | F12: =IF(C4,(B39+B10)/(B3+B4),0) -> 190.10875 | G12: Recommended Dues for New Members If you checked the C4 Cell
A13: Expenses | B13: Budgeted | C13: Actual Spent | D13: Difference
A14: Chapter Assessment Fee (CAF) | B14: 0 | C14: 0 | D14: =B14-C14 -> 0 | E14: If you split click the drop down for $390. If you paid in full leave this at $0 | G14: Headquarters Fees
A15: ($500 or $390*2 for every Chapter)
A16: Risk Management Fees (RMF) | B16: =(B5+B6+B7+B8)*235*IF(B9,0.5,0) -> 3642.5 | C16: 0 | D16: =B16-C16 -> 3642.5 | E16: This sheet is using the Fall 2026 check box in cell B8 to determine if the chapter should account for a split RMF in the spring
A17: ($235 per member per year)
A18: Annual Membership Fees (AMFs) | B18: 0 | C18: 0 | D18: =B18-C18 -> 0 | E18: This should remain $0 if you paid all in the fall. The sheet will do this automatically if you entered cells B4-7 on the Fall sheet correctly
A19: ($215 for full year - incentive rate)
A20: Annual Membership Fees (AMFs) | B20: =(B6+B8)*123 -> 123 | C20: 0 | D20: =B20-C20 -> 123 | E20: Calculated based on information entered in Fall 2026 cells B4-7
A21: ($123 for half year - base rate)
A22: Conclave Savings Plan | B22: 250 | C22: 0 | D22: =B22-C22 -> 250 | E22: Paid every semester
A23: Subtotal | B23: =SUM(B14:B22) -> 4015.5 | C23: =SUM(C14:C22) -> 0 | D23: =SUM(D14:D22) -> 4015.5
A24: Province Forum (PF) | B24: =25*(0.2*(B3+B4)) -> 200 | C24: 0 | D24: =B24-C24 -> 200 | E24: Highly Recommended | G24: Chapter Expenses
A25: Regional Leadership Conference (RLC) | B25: =299*(0.05*(B3+B4)) -> 598 | C25: 0 | D25: =B25-C25 -> 598
A26: Conclave 2028 Travel | B26: 200 | C26: 0 | D26: =B26-C26 -> 200
A27: Recruitment | B27: 500 | C27: 0 | D27: =B27-C27 -> 500
A28: Social | B28: 500 | C28: 0 | D28: =B28-C28 -> 500
A29: Philanthropy | B29: 300 | C29: 0 | D29: =B29-C29 -> 300 | E29: These are your variable expenses. Tey may be the same or different from what is listed. Based on your spenidng over the last 1-3 years, the chapter can budget for variable expenses you may encounter throughout the year.
A30: Officers | B30: 200 | C30: 0 | D30: =B30-C30 -> 200
A31: Red Carnation Ball (RCB) | B31: 1500 | C31: 0 | D31: =B31-C31 -> 1500
A32: Scholarship | B32: 150 | C32: 0 | D32: =B32-C32 -> 150
A33: Brotherhood Events | B33: 500 | C33: 0 | D33: =B33-C33 -> 500
A34: Miscellaneous | B34: 250 | C34: 0 | D34: =B34-C34 -> 250
A35: Composite | B35: 500 | C35: 0 | D35: =B35-C35 -> 500
A36: Apparel/T-Shirts | B36: 500 | C36: 0 | D36: =B36-C36 -> 500
A37: IFC Dues | B37: 250 | C37: 0 | D37: =B37-C37 -> 250
A38: Conference Travel (PF/RLC/Conclave) | B38: =IF(C4,(B3+B4)*10,B3*10) -> 400 | C38: 0 | D38: =B38-C38 -> 400
A39: Subtotal | B39: =SUM(B24:B38) -> 6548 | C39: =SUM(C24:C38) -> 0 | D39: =SUM(D24:D38) -> 6548
A40: Total Expenses | B40: =B23+B39 -> 10563.5 | C40: =C23+C39 -> 0 | D40: =D23+D39 -> 10563.5
...
